{
 "currentVersion": 11.4,
 "cimVersion": "3.4.0",
 "serviceDescription": "",
 "mapName": "ParcelCache",
 "description": "",
 "copyrightText": "",
 "supportsDynamicLayers": true,
 "layers": [
  {
   "id": 0,
   "name": "DATA_ADMIN.TaxMapSheetIndex",
   "parentLayerId": -1,
   "defaultVisibility": true,
   "subLayerIds": null,
   "minScale": 0,
   "maxScale": 0,
   "type": "Feature Layer",
   "geometryType": "esriGeometryPolygon",
   "supportsDynamicLegends": true
  }
 ],
 "tables": [],
 "spatialReference": {
  "wkid": 102671,
  "latestWkid": 3435,
  "xyTolerance": 0.002,
  "zTolerance": 2,
  "mTolerance": 2,
  "falseX": -17463800,
  "falseY": -46132600,
  "xyUnits": 1.3724482207846552E8,
  "falseZ": 0,
  "zUnits": 1,
  "falseM": -100000,
  "mUnits": 10000
 },
 "singleFusedMapCache": true,
 "tileInfo": {
  "rows": 256,
  "cols": 256,
  "dpi": 96,
  "format": "PNG",
  "compressionQuality": 0,
  "origin": {
   "x": -17463800,
   "y": 19496100
  },
  "spatialReference": {
   "wkid": 102671,
   "latestWkid": 3435,
   "xyTolerance": 0.002,
   "zTolerance": 2,
   "mTolerance": 2,
   "falseX": -17463800,
   "falseY": -46132600,
   "xyUnits": 1.3724482207846552E8,
   "falseZ": 0,
   "zUnits": 1,
   "falseM": -100000,
   "mUnits": 10000
  },
  "lods": [
   {
    "level": 0,
    "resolution": 4.340277777777778,
    "scale": 5000
   },
   {
    "level": 1,
    "resolution": 2.6041666666666665,
    "scale": 3000
   },
   {
    "level": 2,
    "resolution": 1.736111111111111,
    "scale": 2000
   },
   {
    "level": 3,
    "resolution": 0.8680555555555555,
    "scale": 1000
   },
   {
    "level": 4,
    "resolution": 0.43402777777777773,
    "scale": 500
   },
   {
    "level": 5,
    "resolution": 0.20833333333333331,
    "scale": 240
   }
  ]
 },
 "storageInfo": {
  "storageFormat": "esriMapCacheStorageModeCompactV2",
  "packetSize": 128
 },
 "initialExtent": {
  "xmin": 1165047.7391473232,
  "ymin": 1907606.188788208,
  "xmax": 1165677.6674690642,
  "ymax": 1908207.3344842822,
  "spatialReference": {
   "wkid": 102671,
   "latestWkid": 3435,
   "xyTolerance": 0.002,
   "zTolerance": 2,
   "mTolerance": 2,
   "falseX": -17463800,
   "falseY": -46132600,
   "xyUnits": 1.3724482207846552E8,
   "falseZ": 0,
   "zUnits": 1,
   "falseM": -100000,
   "mUnits": 10000
  }
 },
 "fullExtent": {
  "xmin": 1089812.993,
  "ymin": 1811166.998,
  "xmax": 1205148.108,
  "ymax": 1952997.58,
  "spatialReference": {
   "wkid": 102671,
   "latestWkid": 3435,
   "xyTolerance": 0.002,
   "zTolerance": 2,
   "mTolerance": 2,
   "falseX": -17463800,
   "falseY": -46132600,
   "xyUnits": 1.3724482207846552E8,
   "falseZ": 0,
   "zUnits": 1,
   "falseM": -100000,
   "mUnits": 10000
  }
 },
 "datesInUnknownTimezone": false,
 "minScale": 288404.51256703684,
 "maxScale": 9012.641017719901,
 "units": "esriFeet",
 "supportedImageFormatTypes": "PNG32,PNG24,PNG,JPG,DIB,TIFF,EMF,PS,PDF,GIF,SVG,SVGZ,BMP",
 "documentInfo": {
  "Title": "Untitled.aprx",
  "Author": "",
  "Comments": "",
  "Subject": "",
  "Category": "",
  "Version": "3.4.0",
  "AntialiasingMode": "Fast",
  "TextAntialiasingMode": "Force",
  "Keywords": ""
 },
 "supportsQueryDomains": true,
 "capabilities": "Map,Query,Data",
 "supportedQueryFormats": "JSON, geoJSON, PBF",
 "hasVersionedData": true,
 "exportTilesAllowed": false,
 "referenceScale": 0.0,
 "datumTransformations": [
  {
   "geoTransforms": [
    {
     "wkid": 108001,
     "latestWkid": 1241,
     "transformForward": true,
     "name": "NAD_1927_To_NAD_1983_NADCON"
    }
   ]
  },
  {
   "geoTransforms": [
    {
     "wkid": 108001,
     "latestWkid": 1241,
     "transformForward": false,
     "name": "NAD_1927_To_NAD_1983_NADCON"
    }
   ]
  }
 ],
 "supportsDatumTransformation": true,
 "archivingInfo": {
  "supportsHistoricMoment": false
 },
 "supportsClipping": true,
 "supportsSpatialFilter": true,
 "supportsTimeRelation": true,
 "supportsQueryDataElements": true,
 "mapUnits": {
  "uwkid": 9003
 },
 "maxSelectionCount": 2000,
 "maxRecordCount": 2000,
 "maxImageHeight": 4096,
 "maxImageWidth": 4096,
 "supportedExtensions": "",
 "resampling": false
}
