{
 "currentVersion": 11.4,
 "cimVersion": "3.4.0",
 "serviceDescription": "",
 "mapName": "Anno_StreetNames",
 "description": "",
 "copyrightText": "",
 "supportsDynamicLayers": true,
 "layers": [
  {
   "id": 0,
   "name": "Transportation Midline",
   "parentLayerId": -1,
   "defaultVisibility": true,
   "subLayerIds": null,
   "minScale": 25000,
   "maxScale": 0,
   "type": "Feature Layer",
   "geometryType": "esriGeometryPolyline",
   "supportsDynamicLegends": true
  }
 ],
 "tables": [],
 "spatialReference": {
  "wkid": 102671,
  "latestWkid": 3435,
  "xyTolerance": 2.0E-4,
  "zTolerance": 2,
  "mTolerance": 2,
  "falseX": -17463800,
  "falseY": -46132600,
  "xyUnits": 1.3724482207846552E8,
  "falseZ": 0,
  "zUnits": 8192,
  "falseM": -100000,
  "mUnits": 10000
 },
 "singleFusedMapCache": true,
 "tileInfo": {
  "rows": 256,
  "cols": 256,
  "dpi": 96,
  "format": "PNG",
  "compressionQuality": 0,
  "origin": {
   "x": -17463800,
   "y": 19496100
  },
  "spatialReference": {
   "wkid": 102671,
   "latestWkid": 3435,
   "xyTolerance": 2.0E-4,
   "zTolerance": 2,
   "mTolerance": 2,
   "falseX": -17463800,
   "falseY": -46132600,
   "xyUnits": 1.3724482207846552E8,
   "falseZ": 0,
   "zUnits": 8192,
   "falseM": -100000,
   "mUnits": 10000
  },
  "lods": [
   {
    "level": 0,
    "resolution": 694.4444444444445,
    "scale": 800000
   },
   {
    "level": 1,
    "resolution": 347.22222222222223,
    "scale": 400000
   },
   {
    "level": 2,
    "resolution": 173.61111111111111,
    "scale": 200000
   },
   {
    "level": 3,
    "resolution": 104.16666666666666,
    "scale": 120000
   },
   {
    "level": 4,
    "resolution": 69.44444444444444,
    "scale": 80000
   },
   {
    "level": 5,
    "resolution": 34.72222222222222,
    "scale": 40000
   },
   {
    "level": 6,
    "resolution": 17.36111111111111,
    "scale": 20000
   },
   {
    "level": 7,
    "resolution": 10.416666666666666,
    "scale": 12000
   },
   {
    "level": 8,
    "resolution": 6.944444444444444,
    "scale": 8000
   },
   {
    "level": 9,
    "resolution": 4.340277777777778,
    "scale": 5000
   },
   {
    "level": 10,
    "resolution": 2.6041666666666665,
    "scale": 3000
   },
   {
    "level": 11,
    "resolution": 1.736111111111111,
    "scale": 2000
   },
   {
    "level": 12,
    "resolution": 0.8680555555555555,
    "scale": 1000
   },
   {
    "level": 13,
    "resolution": 0.43402777777777773,
    "scale": 500
   },
   {
    "level": 14,
    "resolution": 0.20833333333333331,
    "scale": 240
   }
  ]
 },
 "storageInfo": {
  "storageFormat": "esriMapCacheStorageModeCompactV2",
  "packetSize": 128
 },
 "initialExtent": {
  "xmin": 1162440.083776749,
  "ymin": 1879448.8361565855,
  "xmax": 1176493.06442326,
  "ymax": 1892859.709332303,
  "spatialReference": {
   "wkid": 102671,
   "latestWkid": 3435,
   "xyTolerance": 2.0E-4,
   "zTolerance": 2,
   "mTolerance": 2,
   "falseX": -17463800,
   "falseY": -46132600,
   "xyUnits": 1.3724482207846552E8,
   "falseZ": 0,
   "zUnits": 8192,
   "falseM": -100000,
   "mUnits": 10000
  }
 },
 "fullExtent": {
  "xmin": 1091138.26406501,
  "ymin": 1813891.89291369,
  "xmax": 1205138.63416092,
  "ymax": 1951662.59899902,
  "spatialReference": {
   "wkid": 102671,
   "latestWkid": 3435,
   "xyTolerance": 2.0E-4,
   "zTolerance": 2,
   "mTolerance": 2,
   "falseX": -17463800,
   "falseY": -46132600,
   "xyUnits": 1.3724482207846552E8,
   "falseZ": 0,
   "zUnits": 8192,
   "falseM": -100000,
   "mUnits": 10000
  }
 },
 "datesInUnknownTimezone": false,
 "minScale": 288404.51256703684,
 "maxScale": 9012.641017719901,
 "units": "esriFeet",
 "supportedImageFormatTypes": "PNG32,PNG24,PNG,JPG,DIB,TIFF,EMF,PS,PDF,GIF,SVG,SVGZ,BMP",
 "documentInfo": {
  "Title": "Untitled.aprx",
  "Author": "",
  "Comments": "",
  "Subject": "",
  "Category": "",
  "Version": "3.4.0",
  "AntialiasingMode": "Fast",
  "TextAntialiasingMode": "Force",
  "Keywords": ""
 },
 "supportsQueryDomains": true,
 "capabilities": "Map,Query,Data",
 "supportedQueryFormats": "JSON, geoJSON, PBF",
 "hasVersionedData": true,
 "exportTilesAllowed": false,
 "referenceScale": 0.0,
 "datumTransformations": [
  {
   "geoTransforms": [
    {
     "wkid": 108001,
     "latestWkid": 1241,
     "transformForward": true,
     "name": "NAD_1927_To_NAD_1983_NADCON"
    }
   ]
  },
  {
   "geoTransforms": [
    {
     "wkid": 108001,
     "latestWkid": 1241,
     "transformForward": false,
     "name": "NAD_1927_To_NAD_1983_NADCON"
    }
   ]
  }
 ],
 "supportsDatumTransformation": true,
 "archivingInfo": {
  "supportsHistoricMoment": false
 },
 "supportsClipping": true,
 "supportsSpatialFilter": true,
 "supportsTimeRelation": true,
 "supportsQueryDataElements": true,
 "mapUnits": {
  "uwkid": 9003
 },
 "maxSelectionCount": 2000,
 "maxRecordCount": 2000,
 "maxImageHeight": 4096,
 "maxImageWidth": 4096,
 "supportedExtensions": "",
 "resampling": false
}
